BEGIN:VCALENDAR
VERSION:2.0
PRODID:-//wp-events-plugin.com//7.2.3.1//EN
TZID:Europe/Berlin
X-WR-TIMEZONE:Europe/Berlin
BEGIN:VEVENT
UID:106@kultur-in-oyten.de
DTSTART;TZID=Europe/Berlin:20260214T193000
DTEND;TZID=Europe/Berlin:20260214T213000
DTSTAMP:20260127T002132Z
URL:https://www.kultur-in-oyten.de/events/trio-schmuck/
SUMMARY:Trio Schmuck
DESCRIPTION:Igor Stravinsky \nDie Geschichte vom Soldaten\n\nIgor Strawinsk
 ys Werk "Die Geschichte vom Soldaten"\, eine ungewöhnliche Verbindung von
  Musik und Sprechtheater\, wird vom Trio Schmuck gemeinsam mit der Schausp
 ielerin Bianka Elberfeld eindrucksvoll und mit großer Intensität aufgef
 ührt. Vor allem das Schauspiel verleiht dem Werk eine besondere Tiefe und
  erfüllt die Erzählung mit eindringlichem Leben.\n\nIm Zentrum der Handl
 ung steht ein Soldat\, der nach dem Krieg mit seiner Geige von der Front n
 ach Hause geht. Unterwegs begegnet er dem Teufel\, mit dem sich der Soldat
  auf einen verhängnisvollen Pakt einlässt.\n\nMusikalisch erklingt das S
 tück in der von Strawinsky selbst eingerichteten Fassung für drei Instru
 mente: Klarinette (Sayaka Schmuck)\, Violine (Sofia Smarandescu) und Klavi
 er (Nikita Volov). Die Komposition besteht aus kurzen\, in sich geschlosse
 nen Abschnitten\, in denen Strawinsky zahlreiche bekannte musikalische Sti
 le verarbeitet. Fragmente eines Marsches\, eines Tangos\, eines Walzers od
 er eines Chorals treten hervor\, bleiben jedoch bewusst angedeutet. Die ko
 mplexe Rhythmik und die teilweise atonalen Harmonien verleihen der Geschic
 hte eine spannungsreiche Dynamik\, die sich bis zum furiosen Schluss steig
 ert.\n\nEinlass: 18:30 Uhr\nKonzertbeginn: 19:30 Uhr\n\n&nbsp\;
ATTACH;FMTTYPE=image/jpeg:https://www.kultur-in-oyten.de/wp-content/upload
 s/2025/12/Bild_2025-12-28_215619047.png
CATEGORIES:KiO Kammermusik
LOCATION:Bürgersaal Rathaus Oyten\, Hauptstraße 55\, Oyten\, Niedersachse
 n\, 28876\, Deutschland
X-APPLE-STRUCTURED-LOCATION;VALUE=URI;X-ADDRESS=Hauptstraße 55\, Oyten\, N
 iedersachsen\, 28876\, Deutschland;X-APPLE-RADIUS=100;X-TITLE=Bürgersaal 
 Rathaus Oyten:geo:0,0
END:VEVENT
BEGIN:VTIMEZONE
TZID:Europe/Berlin
X-LIC-LOCATION:Europe/Berlin
BEGIN:STANDARD
DTSTART:20251026T020000
TZOFFSETFROM:+0200
TZOFFSETTO:+0100
TZNAME:CET
END:STANDARD
END:VTIMEZONE
END:VCALENDAR