BEGIN:VCALENDAR
VERSION:2.0
PRODID:-//wp-events-plugin.com//7.2.3.1//EN
TZID:Europe/Berlin
X-WR-TIMEZONE:Europe/Berlin
BEGIN:VEVENT
UID:1@kultur-in-oyten.de
DTSTART;TZID=Europe/Berlin:20220917T190000
DTEND;TZID=Europe/Berlin:20220917T233000
DTSTAMP:20220911T234802Z
URL:https://www.kultur-in-oyten.de/events/floyd-unlimited/
SUMMARY:Floyd Unlimited
DESCRIPTION:Floyd Unlimited haben sich vorgenommen\, das musikalische Œuvr
 e von Pink Floyd mit Leidenschaft und Akkuratesse zu zelebrieren.\n\nDabei
  ist die Bremer Band jedoch weit davon entfernt\, ein einfaches “Best Of
 ” vorzutragen. Vielmehr schöpft die Band genussvoll aus dem Fundus der 
 16 Original-Alben und bieten neben wohlbekannten Klassikern auch jede Meng
 e fast vergessener Juwelen. Die Details der Floyd’schen Musik aller Scha
 ffensperioden wurden akribisch herausgearbeitet. Was im Ergebnis die Ohren
  der begeisterten Zuhörer erreicht\, ist überzeugend\, ehrlich und geht 
 ohne Umwege direkt unter die Haut.\n\nWer bedauert\, Pink Floyd nie live g
 esehen zu haben\, darf sich ein Konzert von Floyd Unlimited nicht entgehen
  lassen!\n\nBeginn: 20 Uhr\nEinlass: 19 Uhr
ATTACH;FMTTYPE=image/jpeg:https://www.kultur-in-oyten.de/wp-content/upload
 s/2022/08/FloydUnlimited2022.jpg
CATEGORIES:KiO Unterhaltungsmusik
LOCATION:Bürgersaal Rathaus Oyten\, Hauptstraße 55\, Oyten\, Niedersachse
 n\, 28876\, Deutschland
X-APPLE-STRUCTURED-LOCATION;VALUE=URI;X-ADDRESS=Hauptstraße 55\, Oyten\, N
 iedersachsen\, 28876\, Deutschland;X-APPLE-RADIUS=100;X-TITLE=Bürgersaal 
 Rathaus Oyten:geo:0,0
END:VEVENT
BEGIN:VTIMEZONE
TZID:Europe/Berlin
X-LIC-LOCATION:Europe/Berlin
BEGIN:DAYLIGHT
DTSTART:20220327T030000
TZOFFSETFROM:+0100
TZOFFSETTO:+0200
TZNAME:CEST
END:DAYLIGHT
END:VTIMEZONE
END:VCALENDAR