BEGIN:VCALENDAR
VERSION:2.0
PRODID:-//wp-events-plugin.com//7.2.3.1//EN
TZID:Europe/Berlin
X-WR-TIMEZONE:Europe/Berlin
BEGIN:VEVENT
UID:2@kultur-in-oyten.de
DTSTART;TZID=Europe/Berlin:20221023T200000
DTEND;TZID=Europe/Berlin:20221023T220000
DTSTAMP:20221012T204756Z
URL:https://www.kultur-in-oyten.de/events/20221023_duomonasterium/
SUMMARY:Duo Monasterium
DESCRIPTION:\n\nKlangmalerei spielt eine große Rolle in der Musik. Unser P
 rogramm soll sich dem Thema widmen und zeigen\, mit welch unterschiedliche
 n Stilmitteln Komponisten aus teilweise überschneidenden Lebenszeiten ihr
 en eigenen Klang\, ihre eigene Musik schafften. Ist es die Zeit\, ist es d
 er Schaffungsort\, sind es die Freunde und Komponistenkollegen? Was beeinf
 lusst die Klangidee?\n\nBeginn: 20 Uhr\nEinlass: 19:30 Uhr
ATTACH;FMTTYPE=image/jpeg:https://www.kultur-in-oyten.de/wp-content/upload
 s/2022/08/Duo_Monasterium_c_Anne_Grossmann_AGF_9866_web.jpg
CATEGORIES:KiO Kammermusik
LOCATION:Bürgersaal Rathaus Oyten\, Hauptstraße 55\, Oyten\, Niedersachse
 n\, 28876\, Deutschland
X-APPLE-STRUCTURED-LOCATION;VALUE=URI;X-ADDRESS=Hauptstraße 55\, Oyten\, N
 iedersachsen\, 28876\, Deutschland;X-APPLE-RADIUS=100;X-TITLE=Bürgersaal 
 Rathaus Oyten:geo:0,0
END:VEVENT
BEGIN:VTIMEZONE
TZID:Europe/Berlin
X-LIC-LOCATION:Europe/Berlin
BEGIN:DAYLIGHT
DTSTART:20220327T030000
TZOFFSETFROM:+0100
TZOFFSETTO:+0200
TZNAME:CEST
END:DAYLIGHT
END:VTIMEZONE
END:VCALENDAR